BEGIN:VCALENDAR
VERSION:2.0
PRODID:-//Plone.org//NONSGML plone.app.event//EN
X-WR-TIMEZONE:America/Toronto
BEGIN:VEVENT
SUMMARY:Workshop on digital audio signal processing: At the intersections 
 of music\, media\, and technology
DTSTART;TZID=America/Montreal;VALUE=DATE-TIME:20190412T100000
DTEND;TZID=America/Montreal;VALUE=DATE-TIME:20190412T130000
DTSTAMP;VALUE=DATE-TIME:20260421T162918Z
UID:9223f210db5c44d1bdf428be82705892@project_zeoclients
CREATED;VALUE=DATE-TIME:20210321T220133Z
DESCRIPTION:A workshop presented by Research Axis 1 (Instruments\, devices
  and systems).
LAST-MODIFIED;VALUE=DATE-TIME:20210420T151245Z
LOCATION:Room A832\, Elizabeth Wirth Music Building\, 527 Sherbrooke St. W
 .
URL:https://www.cirmmt.org/fr/events/workshops/research/ra1-120419/zoelzer
END:VEVENT
BEGIN:VTIMEZONE
TZID:America/Montreal
X-LIC-LOCATION:America/Montreal
BEGIN:DAYLIGHT
DTSTART;VALUE=DATE-TIME:20190310T030000
TZNAME:EDT
TZOFFSETFROM:-0500
TZOFFSETTO:-0400
END:DAYLIGHT
END:VTIMEZONE
END:VCALENDAR
