BEGIN:VCALENDAR
VERSION:2.0
PRODID:-//Plone.org//NONSGML plone.app.event//EN
X-WR-TIMEZONE:America/Toronto
BEGIN:VEVENT
SUMMARY:Atelier sur le focus sonore dans les jeux vidéo
DTSTART;TZID=America/Toronto;VALUE=DATE-TIME:20230206T100000
DTEND;TZID=America/Toronto;VALUE=DATE-TIME:20230206T123000
DTSTAMP;VALUE=DATE-TIME:20260421T123250Z
UID:16d52020fa294745baf86eba380e8391@project_zeoclients
CONTACT:info[AT]cirmmt.org
CREATED;VALUE=DATE-TIME:20230111T140718Z
DESCRIPTION:Un événement organisé en collaboration avec l'axe de recher
 che 1 (Instruments\, dispositifs et systèmes)
LAST-MODIFIED;VALUE=DATE-TIME:20230203T142111Z
LOCATION:C-204\, 555 Sherbrooke O.
URL:https://www.cirmmt.org/fr/events/workshops/research/ra1-sound-videogam
 es
END:VEVENT
BEGIN:VTIMEZONE
TZID:America/Toronto
X-LIC-LOCATION:America/Toronto
BEGIN:STANDARD
DTSTART;VALUE=DATE-TIME:20221106T010000
TZNAME:EST
TZOFFSETFROM:-0400
TZOFFSETTO:-0500
END:STANDARD
END:VTIMEZONE
END:VCALENDAR
