BEGIN:VCALENDAR
VERSION:2.0
PRODID:-//Plone.org//NONSGML plone.app.event//EN
X-WR-TIMEZONE:America/Toronto
BEGIN:VEVENT
SUMMARY:Workshop on soundscape and music technology: Their role in educati
 on and learning
DTSTART;TZID=America/Montreal;VALUE=DATE-TIME:20190329T093000
DTEND;TZID=America/Montreal;VALUE=DATE-TIME:20190329T170000
DTSTAMP;VALUE=DATE-TIME:20260421T145314Z
UID:fa8b580c61174f24a87e4804012b238f@project_zeoclients
CREATED;VALUE=DATE-TIME:20210321T220136Z
DESCRIPTION:A workshop presented by Research Axis 3 (Cognition\, perceptio
 n and movement).
LAST-MODIFIED;VALUE=DATE-TIME:20210420T151248Z
LOCATION:Room A832\, Elizabeth Wirth Music Building\, 527 Sherbrooke St. W
 .
URL:https://www.cirmmt.org/fr/events/workshops/research/ra3-290319/ra3
END:VEVENT
BEGIN:VTIMEZONE
TZID:America/Montreal
X-LIC-LOCATION:America/Montreal
BEGIN:DAYLIGHT
DTSTART;VALUE=DATE-TIME:20190310T030000
TZNAME:EDT
TZOFFSETFROM:-0500
TZOFFSETTO:-0400
END:DAYLIGHT
END:VTIMEZONE
END:VCALENDAR
