BEGIN:VCALENDAR
VERSION:2.0
PRODID:-//Plone.org//NONSGML plone.app.event//EN
X-WR-TIMEZONE:America/Toronto
BEGIN:VEVENT
SUMMARY:Composer et jouer avec des Instruments de Musique Numériques
DTSTART;TZID=America/Toronto;VALUE=DATE-TIME:20231201T100000
DTEND;TZID=America/Toronto;VALUE=DATE-TIME:20231201T130000
DTSTAMP;VALUE=DATE-TIME:20260421T111158Z
UID:3f80f702df0d448889ad60ba20d5b83b@project_zeoclients
CONTACT:RA4 Student Coordiantor\, gael.moriceau@umontreal.ca
CREATED;VALUE=DATE-TIME:20231109T150511Z
DESCRIPTION:Organisé par l'Axe de Recherche 4 du CIRMMT\, cet atelier abo
 rdera les divers aspects liés à la composition et à l'interprétation a
 vec des Instruments de Musique Numériques (IMN). Le but de l'atelier est 
 d'encourager la pratique des IMN et de stimuler la créativité au sein de
  la communauté.
LAST-MODIFIED;VALUE=DATE-TIME:20231128T163148Z
LOCATION:A-832\, 8éme étage\, Pavillon de musique Elizabeth Wirth\, 527 
 Sherbrooke O.
URL:https://www.cirmmt.org/fr/events/workshops/research/ra4-workshop-meeti
 ng-dec23
END:VEVENT
BEGIN:VTIMEZONE
TZID:America/Toronto
X-LIC-LOCATION:America/Toronto
BEGIN:STANDARD
DTSTART;VALUE=DATE-TIME:20231105T010000
TZNAME:EST
TZOFFSETFROM:-0400
TZOFFSETTO:-0500
END:STANDARD
END:VTIMEZONE
END:VCALENDAR
