BEGIN:VCALENDAR
VERSION:2.0
PRODID:-//Plone.org//NONSGML plone.app.event//EN
X-WR-TIMEZONE:America/Toronto
BEGIN:VEVENT
SUMMARY:GLAM-MIR 1: galeries\, bibliothèques\, archives\, musées et rech
 erche d'informations musicales
DTSTART;TZID=America/Toronto;VALUE=DATE-TIME:20240406T090000
DTEND;TZID=America/Toronto;VALUE=DATE-TIME:20240406T140000
DTSTAMP;VALUE=DATE-TIME:20260421T133842Z
UID:d6094a1eafd04dffb3ee6ca34433c37a@project_zeoclients
CONTACT:Cory McKay\, cory.mckay@mail.mcgill.ca
CREATED;VALUE=DATE-TIME:20240315T173403Z
DESCRIPTION:Un atelier organisé par l'axe de recherche 2 du CIRMMT.
LAST-MODIFIED;VALUE=DATE-TIME:20240315T200143Z
LOCATION:A-832 (8ème étage )\, 527 rue Sherbrooke O. \, Montréal\, QC H
 3A 1E3
URL:https://www.cirmmt.org/fr/events/workshops/research/ra_2-workshop-apr2
 4
END:VEVENT
BEGIN:VTIMEZONE
TZID:America/Toronto
X-LIC-LOCATION:America/Toronto
BEGIN:DAYLIGHT
DTSTART;VALUE=DATE-TIME:20240310T030000
TZNAME:EDT
TZOFFSETFROM:-0500
TZOFFSETTO:-0400
END:DAYLIGHT
END:VTIMEZONE
END:VCALENDAR
