BEGIN:VCALENDAR
VERSION:2.0
PRODID:-//Plone.org//NONSGML plone.app.event//EN
X-WR-TIMEZONE:America/Toronto
BEGIN:VEVENT
SUMMARY:Atelier : Carmine Cella
DTSTART;TZID=America/Toronto;VALUE=DATE-TIME:20211005T140000
DTEND;TZID=America/Toronto;VALUE=DATE-TIME:20211005T153000
DTSTAMP;VALUE=DATE-TIME:20260421T133651Z
UID:ce6d14d43d6e48dc9ac28a565edb3a44@project_zeoclients
CONTACT:cirmmt.info[AT]mcgill.ca\, cirmmt.info@mcgill.ca\, https://levivie
 r.ca/en/extra-muros/2021-22-season/inter-university-meetings-master-classe
 s
CREATED;VALUE=DATE-TIME:20211008T181828Z
DESCRIPTION:Présenté par l'axe de recherche 4 du CIRMMT et dans le cadre
  des rencontres interuniversitaires « Résonance croisée » du Vivier.
LAST-MODIFIED;VALUE=DATE-TIME:20211008T181841Z
URL:https://www.cirmmt.org/fr/events/workshops/research/smart-instruments
END:VEVENT
BEGIN:VTIMEZONE
TZID:America/Toronto
X-LIC-LOCATION:America/Toronto
BEGIN:DAYLIGHT
DTSTART;VALUE=DATE-TIME:20210314T030000
TZNAME:EDT
TZOFFSETFROM:-0500
TZOFFSETTO:-0400
END:DAYLIGHT
END:VTIMEZONE
END:VCALENDAR
