BEGIN:VCALENDAR
VERSION:2.0
PRODID:-//Plone.org//NONSGML plone.app.event//EN
X-WR-TIMEZONE:America/Toronto
BEGIN:VEVENT
SUMMARY:La Semaine du Son de l'UNESCO Canada : Son-Espace-Temps
DTSTART;TZID=America/Toronto;VALUE=DATE-TIME:20220322T130000
DTEND;TZID=America/Toronto;VALUE=DATE-TIME:20220322T160000
DTSTAMP;VALUE=DATE-TIME:20260421T122815Z
UID:e91148c88e49405181749990f82c8798@project_zeoclients
CONTACT:https://lasemainedusoncanada.wordpress.com/mardi-22-mars-13h-16h-s
 on-espace-temps/
CREATED;VALUE=DATE-TIME:20220315T171937Z
DESCRIPTION:Une table ronde dans le cadre de la Semaine du Son de l'UNESCO
  Canada\, avec Robert Normandeau\, Nicolas Reeves\, Nicolas Bouillot\, San
 deep Bahgwati et la modératrice Emmanuelle Lizère.
LAST-MODIFIED;VALUE=DATE-TIME:20220317T173438Z
LOCATION:E-2033\,  Maison des étudiants\, École de technologie supérieu
 re\, 1220 Notre-Dame Ouest
URL:https://www.cirmmt.org/fr/events/workshops/research/son-espace-temps
END:VEVENT
BEGIN:VTIMEZONE
TZID:America/Toronto
X-LIC-LOCATION:America/Toronto
BEGIN:DAYLIGHT
DTSTART;VALUE=DATE-TIME:20220313T030000
TZNAME:EDT
TZOFFSETFROM:-0500
TZOFFSETTO:-0400
END:DAYLIGHT
END:VTIMEZONE
END:VCALENDAR
