BEGIN:VCALENDAR
VERSION:2.0
PRODID:-//Plone.org//NONSGML plone.app.event//EN
X-WR-TIMEZONE:America/Toronto
BEGIN:VEVENT
SUMMARY:Sonification of neural networks and EEG data in SuperCollider
DTSTART;TZID=America/Montreal;VALUE=DATE-TIME:20160503T150000
DTEND;TZID=America/Montreal;VALUE=DATE-TIME:20160503T180000
DTSTAMP;VALUE=DATE-TIME:20260421T175033Z
UID:2446988226ce46d6b04b3c27061c8c6f@project_zeoclients
CREATED;VALUE=DATE-TIME:20210321T220138Z
DESCRIPTION:This CIRMMT Research Workshop is organized by Florian Grond in
  collaboration with IDMIL and the Research Axis 1 -Instruments\, devices a
 nd systems- and will be held in A832\, on 8th floor of the New Music Build
 ing of McGill University. \nNo registration is required.
LAST-MODIFIED;VALUE=DATE-TIME:20210420T151110Z
LOCATION:A832\, New Music Building\, 527 Sherbrooke St. West.
URL:https://www.cirmmt.org/fr/events/workshops/research/sonification_EEG_S
 upercollider
END:VEVENT
BEGIN:VTIMEZONE
TZID:America/Montreal
X-LIC-LOCATION:America/Montreal
BEGIN:DAYLIGHT
DTSTART;VALUE=DATE-TIME:20160313T030000
TZNAME:EDT
TZOFFSETFROM:-0500
TZOFFSETTO:-0400
END:DAYLIGHT
END:VTIMEZONE
END:VCALENDAR
