BEGIN:VCALENDAR
VERSION:2.0
PRODID:-//Plone.org//NONSGML plone.app.event//EN
X-WR-TIMEZONE:America/Toronto
BEGIN:VEVENT
SUMMARY:Animating pedestrian zones in the sonic dimension
DTSTART;TZID=America/Montreal;VALUE=DATE-TIME:20161118T083000
DTEND;TZID=America/Montreal;VALUE=DATE-TIME:20161118T190000
DTSTAMP;VALUE=DATE-TIME:20260421T175853Z
UID:0aba0ab1d9ad487d9ea794872df8ff41@project_zeoclients
CREATED;VALUE=DATE-TIME:20210321T220139Z
DESCRIPTION:This CIRMMT 1-day event is organized by CIRMMT Research Axis 3
  [Cognition\, Perception\, and Movement] and Axis 1 [Instruments\, devices
  and systems] in collaboration with the Goethe-Institute and Ville de Mont
 réal. This event is part of the McGill Innovation Week. It will take plac
 e on Friday\, November\, 18th 2016\, in the room A832 (New Music Building)
 . \nRegistration is mandatory. \n
LAST-MODIFIED;VALUE=DATE-TIME:20210420T151110Z
LOCATION:A832\, New Music Building\, 527 Sherbrooke St. West.
URL:https://www.cirmmt.org/fr/events/workshops/research/soundscape_pedestr
 ian
END:VEVENT
BEGIN:VTIMEZONE
TZID:America/Montreal
X-LIC-LOCATION:America/Montreal
BEGIN:STANDARD
DTSTART;VALUE=DATE-TIME:20161106T010000
TZNAME:EST
TZOFFSETFROM:-0400
TZOFFSETTO:-0500
END:STANDARD
END:VTIMEZONE
END:VCALENDAR
