BEGIN:VCALENDAR
VERSION:2.0
PRODID:-//Plone.org//NONSGML plone.app.event//EN
X-WR-TIMEZONE:America/Toronto
BEGIN:VEVENT
SUMMARY:Workshop - Sounds in the City: What role does sound play in the de
 sign of our public spaces? How can we identify and preserve good quality u
 rban sound environments?
DTSTART;TZID=America/Montreal;VALUE=DATE-TIME:20180515T090000
DTEND;TZID=America/Montreal;VALUE=DATE-TIME:20180515T170000
DTSTAMP;VALUE=DATE-TIME:20260421T163331Z
UID:18838980553f4c03b6f623a1a909aae7@project_zeoclients
CREATED;VALUE=DATE-TIME:20210321T220139Z
DESCRIPTION:Organized by the Sounds in the City team\, a research project 
 and living lab on sound environments\, led by McGill University and the Pl
 ateau-Mont-Royal borough\, under the direction of Professor Catherine Guas
 tavino. The workshop is free and open to all.
LAST-MODIFIED;VALUE=DATE-TIME:20210420T151249Z
LOCATION:Room 1.42.a\, ITHQ\, 3535 Saint-Denis Street
URL:https://www.cirmmt.org/fr/events/workshops/research/soundscity/ra3-sou
 nds-city
END:VEVENT
BEGIN:VTIMEZONE
TZID:America/Montreal
X-LIC-LOCATION:America/Montreal
BEGIN:DAYLIGHT
DTSTART;VALUE=DATE-TIME:20180311T030000
TZNAME:EDT
TZOFFSETFROM:-0500
TZOFFSETTO:-0400
END:DAYLIGHT
END:VTIMEZONE
END:VCALENDAR
