BEGIN:VCALENDAR
VERSION:2.0
PRODID:-//Plone.org//NONSGML plone.app.event//EN
X-WR-TIMEZONE:America/Toronto
BEGIN:VEVENT
SUMMARY:Space3D : Un modèle général pour le traitement spatial tridimen
 sionnel des sons
DTSTART;TZID=America/Toronto;VALUE=DATE-TIME:20250626T150000
DTEND;TZID=America/Toronto;VALUE=DATE-TIME:20250626T163000
DTSTAMP;VALUE=DATE-TIME:20260421T110923Z
UID:fc9fb3cdbeae4658b4f2eb22881200ca@project_zeoclients
CONTACT:info [AROBASE] cirmmt [POINT] org
CREATED;VALUE=DATE-TIME:20250604T154654Z
LAST-MODIFIED;VALUE=DATE-TIME:20250626T170836Z
LOCATION:Salle multimédia MMR (-2 étage)\, Pavillon de musique Elizabeth
  Wirth\, 527\, Sherbrooke O
URL:https://www.cirmmt.org/fr/events/workshops/research/space3d-26-jun-202
 5
END:VEVENT
BEGIN:VTIMEZONE
TZID:America/Toronto
X-LIC-LOCATION:America/Toronto
BEGIN:DAYLIGHT
DTSTART;VALUE=DATE-TIME:20250309T030000
TZNAME:EDT
TZOFFSETFROM:-0500
TZOFFSETTO:-0400
END:DAYLIGHT
END:VTIMEZONE
END:VCALENDAR
