BEGIN:VCALENDAR
VERSION:2.0
PRODID:-//Plone.org//NONSGML plone.app.event//EN
X-WR-TIMEZONE:America/Toronto
BEGIN:VEVENT
SUMMARY:CIRMMT Student Awards tip & assist workshop 2020
DTSTART;TZID=America/Montreal;VALUE=DATE-TIME:20200120T150000
DTEND;TZID=America/Montreal;VALUE=DATE-TIME:20200120T170000
DTSTAMP;VALUE=DATE-TIME:20260421T133958Z
UID:4f0942bcf83042b0a7b89aeb61b1f95c@project_zeoclients
CREATED;VALUE=DATE-TIME:20210321T220142Z
DESCRIPTION:This workshop will provide ideas and feedback for students who
  wish to apply for the CIRMMT Student Award 2020.
LAST-MODIFIED;VALUE=DATE-TIME:20210420T151111Z
LOCATION:A832\, Elizabeth Wirth Music Building\, 527 Sherbrooke St W
URL:https://www.cirmmt.org/fr/events/workshops/research/student-award-assi
 st2020
END:VEVENT
BEGIN:VTIMEZONE
TZID:America/Montreal
X-LIC-LOCATION:America/Montreal
BEGIN:STANDARD
DTSTART;VALUE=DATE-TIME:20191103T010000
TZNAME:EST
TZOFFSETFROM:-0400
TZOFFSETTO:-0500
END:STANDARD
END:VTIMEZONE
END:VCALENDAR
