BEGIN:VCALENDAR
VERSION:2.0
PRODID:-//Plone.org//NONSGML plone.app.event//EN
X-WR-TIMEZONE:America/Toronto
BEGIN:VEVENT
SUMMARY:[ONLINE] CIRMMT Student Award Workshop 2021
DTSTART;TZID=America/Montreal;VALUE=DATE-TIME:20210108T140000
DTEND;TZID=America/Montreal;VALUE=DATE-TIME:20210108T160000
DTSTAMP;VALUE=DATE-TIME:20260421T133958Z
UID:49f7ef069eb44ad199f84537062540a0@project_zeoclients
CREATED;VALUE=DATE-TIME:20210321T220142Z
DESCRIPTION:This workshop will provide ideas and feedback for students who
  wish to apply for the CIRMMT Student Award 2021.
LAST-MODIFIED;VALUE=DATE-TIME:20210420T151111Z
LOCATION:Online (MS Teams)
URL:https://www.cirmmt.org/fr/events/workshops/research/student-award-assi
 st2021
END:VEVENT
BEGIN:VTIMEZONE
TZID:America/Montreal
X-LIC-LOCATION:America/Montreal
BEGIN:STANDARD
DTSTART;VALUE=DATE-TIME:20201101T010000
TZNAME:EST
TZOFFSETFROM:-0400
TZOFFSETTO:-0500
END:STANDARD
END:VTIMEZONE
END:VCALENDAR
