BEGIN:VCALENDAR
VERSION:2.0
PRODID:-//Plone.org//NONSGML plone.app.event//EN
X-WR-TIMEZONE:America/Toronto
BEGIN:VEVENT
SUMMARY:Atelier Unis-sons d’écoute immersive à la salle Multimédia (M
 MR)
DTSTART;TZID=America/Toronto;VALUE=DATE-TIME:20250609T140000
DTEND;TZID=America/Toronto;VALUE=DATE-TIME:20250609T170000
DTSTAMP;VALUE=DATE-TIME:20260421T094257Z
UID:bdcb30bae16c4f85adbbe2030618f7a3@project_zeoclients
CONTACT:Catherine.Guastavino [AROBASE] mcgill [POINT] ca
CREATED;VALUE=DATE-TIME:20250528T143656Z
DESCRIPTION:Cet atelier est présenté en collaboration avec l'axe de rech
 erche 3 (Cognition\, perception et mouvement)
LAST-MODIFIED;VALUE=DATE-TIME:20250603T143654Z
LOCATION:Salle mulitmédia (MMR) (-2 étage)\, Pavillon de musique Elizabe
 th Wirth\, 527\, Sherbrooke O
URL:https://www.cirmmt.org/fr/events/workshops/research/uni-sons-9-juin-20
 25
END:VEVENT
BEGIN:VTIMEZONE
TZID:America/Toronto
X-LIC-LOCATION:America/Toronto
BEGIN:DAYLIGHT
DTSTART;VALUE=DATE-TIME:20250309T030000
TZNAME:EDT
TZOFFSETFROM:-0500
TZOFFSETTO:-0400
END:DAYLIGHT
END:VTIMEZONE
END:VCALENDAR
