BEGIN:VCALENDAR
VERSION:2.0
PRODID:-//Plone.org//NONSGML plone.app.event//EN
X-WR-TIMEZONE:America/Toronto
BEGIN:VEVENT
SUMMARY:Workshop on usability and user experience for music information sy
 stems
DTSTART;TZID=America/Montreal;VALUE=DATE-TIME:20150925T090000
DTEND;TZID=America/Montreal;VALUE=DATE-TIME:20150925T140000
DTSTAMP;VALUE=DATE-TIME:20260421T191852Z
UID:2dd5b0b3b30547d1824aa0903af4c34b@project_zeoclients
CREATED;VALUE=DATE-TIME:20210321T220143Z
DESCRIPTION:This workshop is organized by Research Axis 2 [Music informati
 on research] and by the MIRAI team (Music Information\, Research\, and Inf
 rastructure)\, a research team funded by the Fonds de recherche du Québec
  – Société et culture. It will be held in A832\, on 8th floor of the E
 lizabeth Wirth Music Building of McGill University. This workshop is free 
 and open to all. Registration is required.
LAST-MODIFIED;VALUE=DATE-TIME:20210420T151251Z
LOCATION:A832\, Elizabeth Wirth Music Building\, 527 Sherbrooke St. West.
URL:https://www.cirmmt.org/fr/events/workshops/research/usability2015/hpp
END:VEVENT
BEGIN:VTIMEZONE
TZID:America/Montreal
X-LIC-LOCATION:America/Montreal
BEGIN:DAYLIGHT
DTSTART;VALUE=DATE-TIME:20150308T030000
TZNAME:EDT
TZOFFSETFROM:-0500
TZOFFSETTO:-0400
END:DAYLIGHT
END:VTIMEZONE
END:VCALENDAR
