BEGIN:VCALENDAR
VERSION:2.0
PRODID:-//Plone.org//NONSGML plone.app.event//EN
X-WR-TIMEZONE:America/Toronto
BEGIN:VEVENT
SUMMARY:Atelier : Concevoir des expériences auditives pour un système de
  réalité mixte toujours actif
DTSTART;TZID=America/Toronto;VALUE=DATE-TIME:20221003T120000
DTEND;TZID=America/Toronto;VALUE=DATE-TIME:20221003T153000
DTSTAMP;VALUE=DATE-TIME:20260423T054834Z
UID:ce87699676a1418789714e1a0c253de7@project_zeoclients
CONTACT:info[AT]cirmmt.org
CREATED;VALUE=DATE-TIME:20220914T200846Z
DESCRIPTION:Un événement organisé en collaboration avec l'axe de recher
 che 1 (Instruments\, dispositifs et systèmes).
LAST-MODIFIED;VALUE=DATE-TIME:20220929T145914Z
LOCATION:A-832\, 8e étage\, 527 Rue Sherbrooke O.
URL:https://www.cirmmt.org/fr/events/workshops/research/workshop-mixed-rea
 lity
END:VEVENT
BEGIN:VTIMEZONE
TZID:America/Toronto
X-LIC-LOCATION:America/Toronto
BEGIN:DAYLIGHT
DTSTART;VALUE=DATE-TIME:20220313T030000
TZNAME:EDT
TZOFFSETFROM:-0500
TZOFFSETTO:-0400
END:DAYLIGHT
END:VTIMEZONE
END:VCALENDAR
