BEGIN:VCALENDAR
VERSION:2.0
PRODID:-//Plone.org//NONSGML plone.app.event//EN
X-WR-TIMEZONE:America/Toronto
BEGIN:VEVENT
SUMMARY:Workshop on orchestral music in the 21st century: Composition\, pe
 rformance\, capture\, and distribution
DTSTART;TZID=America/Montreal;VALUE=DATE-TIME:20180220T090000
DTEND;TZID=America/Montreal;VALUE=DATE-TIME:20180220T140000
DTSTAMP;VALUE=DATE-TIME:20260421T163328Z
UID:86c3d2d4f33349cd9e35c98667edffab@project_zeoclients
CREATED;VALUE=DATE-TIME:20210321T220146Z
DESCRIPTION:A Research Axis 1 (Instruments\, devices and systems) workshop
 . This workshop is free and open to all. Registration is required.
LAST-MODIFIED;VALUE=DATE-TIME:20210420T151251Z
LOCATION:A832 & A833\, Elizabeth Wirth Music Building\, 527 Sherbrooke St.
  West
URL:https://www.cirmmt.org/fr/events/workshops/research/workshop-ra1-orche
 stral-music-21c/ra1-dsp
END:VEVENT
BEGIN:VTIMEZONE
TZID:America/Montreal
X-LIC-LOCATION:America/Montreal
BEGIN:STANDARD
DTSTART;VALUE=DATE-TIME:20171105T010000
TZNAME:EST
TZOFFSETFROM:-0400
TZOFFSETTO:-0500
END:STANDARD
END:VTIMEZONE
END:VCALENDAR
