BEGIN:VCALENDAR
VERSION:2.0
PRODID:-//Plone.org//NONSGML plone.app.event//EN
X-WR-TIMEZONE:America/Toronto
BEGIN:VEVENT
SUMMARY:Workshop on 3D/360 music production and multi-track recording usin
 g the ZYLIA microphone array
DTSTART;TZID=America/Montreal;VALUE=DATE-TIME:20180202T133000
DTEND;TZID=America/Montreal;VALUE=DATE-TIME:20180202T153000
DTSTAMP;VALUE=DATE-TIME:20260421T180246Z
UID:f4c0e5894ae04830a2261bfb0e62d9b6@project_zeoclients
CREATED;VALUE=DATE-TIME:20210321T220146Z
DESCRIPTION:A Research Axis 1 (Instruments\, devices and systems) workshop
 . This workshop is free and open to all.
LAST-MODIFIED;VALUE=DATE-TIME:20210420T151251Z
LOCATION:A832\, Elizabeth Wirth Music Building\, 527 Sherbrooke St. West
URL:https://www.cirmmt.org/fr/events/workshops/research/workshop-ra1-zylia
 /ra1-zylia
END:VEVENT
BEGIN:VTIMEZONE
TZID:America/Montreal
X-LIC-LOCATION:America/Montreal
BEGIN:STANDARD
DTSTART;VALUE=DATE-TIME:20171105T010000
TZNAME:EST
TZOFFSETFROM:-0400
TZOFFSETTO:-0500
END:STANDARD
END:VTIMEZONE
END:VCALENDAR
