BEGIN:VCALENDAR
VERSION:2.0
PRODID:-//Plone.org//NONSGML plone.app.event//EN
X-WR-TIMEZONE:America/Toronto
BEGIN:VEVENT
SUMMARY:Implementing Virtual Partners for Sensorimotor Synchronization Res
 earch
DTSTART;TZID=America/Toronto;VALUE=DATE-TIME:20231004T090000
DTEND;TZID=America/Toronto;VALUE=DATE-TIME:20231004T110000
DTSTAMP;VALUE=DATE-TIME:20260421T110802Z
UID:706264adcaf04ce0a7f85f071639d5fe@project_zeoclients
CONTACT:Bavo Van Kerrebroeck\, bavo.vankerrebroeck@mail.mcgill.ca
CREATED;VALUE=DATE-TIME:20230922T183039Z
DESCRIPTION:Un atelier avec Bavo Van Kerrebroeck\, chercheur post-doctoral
  au sein du Input Devices and Music Interaction Lab et du Sequence Product
 ion Lab de l'Université McGill. Cette session démontrera l'affichage de 
 stimuli dans des écrans de réalité virtuelle et augmentée montés sur 
 la tête\, suivi d'une discussion ouverte sur l'enregistrement des donnée
 s et les configurations multi-utilisateur·rice·s.
LAST-MODIFIED;VALUE=DATE-TIME:20230922T195904Z
LOCATION:A-832\, 8eme etage\, Pavillon de la musique Elizabeth Wirth\, 527
  rue Sherbrooke O.
URL:https://www.cirmmt.org/fr/events/workshops/research/xr-workshop
END:VEVENT
BEGIN:VTIMEZONE
TZID:America/Toronto
X-LIC-LOCATION:America/Toronto
BEGIN:DAYLIGHT
DTSTART;VALUE=DATE-TIME:20230312T030000
TZNAME:EDT
TZOFFSETFROM:-0500
TZOFFSETTO:-0400
END:DAYLIGHT
END:VTIMEZONE
END:VCALENDAR
