BEGIN:VCALENDAR
VERSION:2.0
PRODID:-//Plone.org//NONSGML plone.app.event//EN
X-WR-TIMEZONE:America/Toronto
BEGIN:VEVENT
SUMMARY:COMSOL Workshop
DTSTART;TZID=America/Montreal;VALUE=DATE-TIME:20100311T093000
DTEND;TZID=America/Montreal;VALUE=DATE-TIME:20100311T123000
DTSTAMP;VALUE=DATE-TIME:20260422T015707Z
UID:05164cbebd7c42da90ac0487762b9241@project_zeoclients
CREATED;VALUE=DATE-TIME:20210321T220152Z
DESCRIPTION:This workshop is organized by CIRMMT Research Axis 1 (Sound mo
 deling\, acoustics and processing) and will provide an introduction to the
  use of the multi-physics modeling software system COMSOL. It will take pl
 ace on Thursday\, March 11\, in A512 (New Music Building). This workshop i
 s free and open to all. Registration is required. 
LAST-MODIFIED;VALUE=DATE-TIME:20210420T151215Z
LOCATION:A512\, New Music Building\, 527 Sherbrooke St. West. Enter via 55
 5 Sherbrooke St. West. 
URL:https://www.cirmmt.org/fr/events/workshops/training/Comsol/event
END:VEVENT
BEGIN:VTIMEZONE
TZID:America/Montreal
X-LIC-LOCATION:America/Montreal
BEGIN:STANDARD
DTSTART;VALUE=DATE-TIME:20091101T010000
TZNAME:EST
TZOFFSETFROM:-0400
TZOFFSETTO:-0500
END:STANDARD
END:VTIMEZONE
END:VCALENDAR
