BEGIN:VCALENDAR
VERSION:2.0
PRODID:-//Plone.org//NONSGML plone.app.event//EN
X-WR-TIMEZONE:America/Toronto
BEGIN:VEVENT
SUMMARY:Atelier sur les CV et les lettres de motivation
DTSTART;TZID=America/Toronto;VALUE=DATE-TIME:20220926T130000
DTEND;TZID=America/Toronto;VALUE=DATE-TIME:20220926T150000
DTSTAMP;VALUE=DATE-TIME:20260423T054731Z
UID:40a2f9b0e5304715ac686c1b957b7313@project_zeoclients
CONTACT:actor-project.music[AT]mcgill.ca
CREATED;VALUE=DATE-TIME:20220914T180543Z
DESCRIPTION:Organisé par le comité de formation et de mentorat d'ACTOR\,
  cet atelier en ligne est ouvert à tous les membres d'ACTOR et du CIRMMT.
LAST-MODIFIED;VALUE=DATE-TIME:20220921T142801Z
LOCATION:En ligne (lien ci-dessous)
URL:https://www.cirmmt.org/fr/events/workshops/training/actor-cv-workshop
END:VEVENT
BEGIN:VTIMEZONE
TZID:America/Toronto
X-LIC-LOCATION:America/Toronto
BEGIN:DAYLIGHT
DTSTART;VALUE=DATE-TIME:20220313T030000
TZNAME:EDT
TZOFFSETFROM:-0500
TZOFFSETTO:-0400
END:DAYLIGHT
END:VTIMEZONE
END:VCALENDAR
