BEGIN:VCALENDAR
VERSION:2.0
PRODID:-//Plone.org//NONSGML plone.app.event//EN
X-WR-TIMEZONE:America/Toronto
BEGIN:VEVENT
SUMMARY:Atelier sur l'EDI (équité\, diversité et inclusion)
DTSTART;TZID=America/Toronto;VALUE=DATE-TIME:20230605T130000
DTEND;TZID=America/Toronto;VALUE=DATE-TIME:20230605T160000
DTSTAMP;VALUE=DATE-TIME:20260423T053944Z
UID:14dc578f6882483a815200febe8556c7@project_zeoclients
CREATED;VALUE=DATE-TIME:20230511T154918Z
DESCRIPTION:Un atelier sur l'EDI (équité\, diversité et inclusion) dest
 iné spécifiquement aux membres et aux étudiant·e·s du CIRMMT.
LAST-MODIFIED;VALUE=DATE-TIME:20230529T182815Z
LOCATION:A-832\, 8éme étage\, Pavillon de musique Elizabeth Wirth\, 527 
 Sherbrooke O.
URL:https://www.cirmmt.org/fr/events/workshops/training/ediworkshop
END:VEVENT
BEGIN:VTIMEZONE
TZID:America/Toronto
X-LIC-LOCATION:America/Toronto
BEGIN:DAYLIGHT
DTSTART;VALUE=DATE-TIME:20230312T030000
TZNAME:EDT
TZOFFSETFROM:-0500
TZOFFSETTO:-0400
END:DAYLIGHT
END:VTIMEZONE
END:VCALENDAR
