BEGIN:VCALENDAR
VERSION:2.0
PRODID:-//Plone.org//NONSGML plone.app.event//EN
X-WR-TIMEZONE:America/Toronto
BEGIN:VEVENT
SUMMARY:Workshop: An introduction to entrepreneurship from a university pe
 rspective
DTSTART;TZID=America/Montreal;VALUE=DATE-TIME:20110303T120000
DTEND;TZID=America/Montreal;VALUE=DATE-TIME:20110303T130000
DTSTAMP;VALUE=DATE-TIME:20260421T232025Z
UID:1314c62bc15c4faea5f411c77093be2d@project_zeoclients
CREATED;VALUE=DATE-TIME:20210321T220153Z
LAST-MODIFIED;VALUE=DATE-TIME:20210420T151218Z
LOCATION:A-832\, New Music Building\, 527 Sherbrooke St. West
URL:https://www.cirmmt.org/fr/events/workshops/training/entrepreneurship/e
 vent
END:VEVENT
BEGIN:VTIMEZONE
TZID:America/Montreal
X-LIC-LOCATION:America/Montreal
BEGIN:STANDARD
DTSTART;VALUE=DATE-TIME:20101107T010000
TZNAME:EST
TZOFFSETFROM:-0400
TZOFFSETTO:-0500
END:STANDARD
END:VTIMEZONE
END:VCALENDAR
