BEGIN:VCALENDAR
VERSION:2.0
PRODID:-//Plone.org//NONSGML plone.app.event//EN
X-WR-TIMEZONE:America/Toronto
BEGIN:VEVENT
SUMMARY:Intro to Final Cut Pro Workshop
DTSTART;TZID=America/Montreal;VALUE=DATE-TIME:20090324T100000
DTEND;TZID=America/Montreal;VALUE=DATE-TIME:20090324T170000
DTSTAMP;VALUE=DATE-TIME:20260422T030259Z
UID:f28e601ec3a74605a3aeb8b938fbe638@project_zeoclients
CREATED;VALUE=DATE-TIME:20210321T220154Z
DESCRIPTION:This 6 hour workshop is offered to CIRMMT members and students
  by Kim Simard\, of Community Video.  No prior experience is necessary.  R
 egistration is free\, and limited to 12 participants.
LAST-MODIFIED;VALUE=DATE-TIME:20210420T151218Z
LOCATION:CIRMMT Meeting Room\, A807\, New Music Building\, 527 Sherbrooke 
 St. West
URL:https://www.cirmmt.org/fr/events/workshops/training/final-cut/event
END:VEVENT
BEGIN:VTIMEZONE
TZID:America/Montreal
X-LIC-LOCATION:America/Montreal
BEGIN:DAYLIGHT
DTSTART;VALUE=DATE-TIME:20090308T030000
TZNAME:EDT
TZOFFSETFROM:-0500
TZOFFSETTO:-0400
END:DAYLIGHT
END:VTIMEZONE
END:VCALENDAR
