BEGIN:VCALENDAR
VERSION:2.0
PRODID:-//Plone.org//NONSGML plone.app.event//EN
X-WR-TIMEZONE:America/Toronto
BEGIN:VEVENT
SUMMARY:Final Cut Advanced Workshop
DTSTART;TZID=America/Montreal;VALUE=DATE-TIME:20100513T090000
DTEND;TZID=America/Montreal;VALUE=DATE-TIME:20100513T170000
DTSTAMP;VALUE=DATE-TIME:20260422T002749Z
UID:ac9fe748be7b4c168ee090f6efd028cb@project_zeoclients
CREATED;VALUE=DATE-TIME:20210321T220154Z
DESCRIPTION:CIRMMT has Final Cut Pro video editing software available for 
 use by its members. This workshop will introduce users to advanced FCP ele
 ments such as color correction\, effects\, titling\, codecs and exporting 
 .
LAST-MODIFIED;VALUE=DATE-TIME:20210420T151218Z
LOCATION:A807\, New Music Building\, 527 Sherbrooke St. West. Enter via 55
 5 Sherbrooke St. West. 
URL:https://www.cirmmt.org/fr/events/workshops/training/finalcut-advanced/
 event
END:VEVENT
BEGIN:VTIMEZONE
TZID:America/Montreal
X-LIC-LOCATION:America/Montreal
BEGIN:DAYLIGHT
DTSTART;VALUE=DATE-TIME:20100314T030000
TZNAME:EDT
TZOFFSETFROM:-0500
TZOFFSETTO:-0400
END:DAYLIGHT
END:VTIMEZONE
END:VCALENDAR
