BEGIN:VCALENDAR
VERSION:2.0
PRODID:-//Plone.org//NONSGML plone.app.event//EN
X-WR-TIMEZONE:America/Toronto
BEGIN:VEVENT
SUMMARY:Final Cut Pro X Advanced Workshop
DTSTART;TZID=America/Montreal;VALUE=DATE-TIME:20131009T093000
DTEND;TZID=America/Montreal;VALUE=DATE-TIME:20131009T113000
DTSTAMP;VALUE=DATE-TIME:20260421T192801Z
UID:93ffceccf2034284b43a1f85ecda0889@project_zeoclients
CREATED;VALUE=DATE-TIME:20210321T220155Z
DESCRIPTION:CIRMMT has Final Cut Pro X video editing software available fo
 r use by its members. This workshop will introduce users to advanced FCPX 
 elements.
LAST-MODIFIED;VALUE=DATE-TIME:20210420T151218Z
LOCATION:A807\, New Music Building\, 527 Sherbrooke St. West.
URL:https://www.cirmmt.org/fr/events/workshops/training/finalcut-advanced/
 event_20131009
END:VEVENT
BEGIN:VTIMEZONE
TZID:America/Montreal
X-LIC-LOCATION:America/Montreal
BEGIN:DAYLIGHT
DTSTART;VALUE=DATE-TIME:20130310T030000
TZNAME:EDT
TZOFFSETFROM:-0500
TZOFFSETTO:-0400
END:DAYLIGHT
END:VTIMEZONE
END:VCALENDAR
