BEGIN:VCALENDAR
VERSION:2.0
PRODID:-//Plone.org//NONSGML plone.app.event//EN
X-WR-TIMEZONE:America/Toronto
BEGIN:VEVENT
SUMMARY:Final Cut Pro X Advanced Workshop
DTSTART;TZID=America/Montreal;VALUE=DATE-TIME:20131127T093000
DTEND;TZID=America/Montreal;VALUE=DATE-TIME:20131127T113000
DTSTAMP;VALUE=DATE-TIME:20260421T192938Z
UID:b781ee450fc54a0ab2fb29cec51a33a6@project_zeoclients
CREATED;VALUE=DATE-TIME:20210321T220156Z
DESCRIPTION:CIRMMT has Final Cut Pro X video editing software available fo
 r use by its members. This workshop will introduce users to advanced FCPX 
 elements.
LAST-MODIFIED;VALUE=DATE-TIME:20210420T151218Z
LOCATION:A807\, New Music Building\, 527 Sherbrooke St. West.
URL:https://www.cirmmt.org/fr/events/workshops/training/finalcut-advanced/
 event_20131127
END:VEVENT
BEGIN:VTIMEZONE
TZID:America/Montreal
X-LIC-LOCATION:America/Montreal
BEGIN:STANDARD
DTSTART;VALUE=DATE-TIME:20131103T010000
TZNAME:EST
TZOFFSETFROM:-0400
TZOFFSETTO:-0500
END:STANDARD
END:VTIMEZONE
END:VCALENDAR
