BEGIN:VCALENDAR
VERSION:2.0
PRODID:-//Plone.org//NONSGML plone.app.event//EN
X-WR-TIMEZONE:America/Toronto
BEGIN:VEVENT
SUMMARY:Final Cut Introductory Workshop
DTSTART;TZID=America/Montreal;VALUE=DATE-TIME:20100512T090000
DTEND;TZID=America/Montreal;VALUE=DATE-TIME:20100512T170000
DTSTAMP;VALUE=DATE-TIME:20260419T174816Z
UID:ab82c79f2a004405b5ba189c5f569bea@project_zeoclients
CREATED;VALUE=DATE-TIME:20210321T220156Z
DESCRIPTION:CIRMMT has Final Cut Pro video editing software available for 
 use by its members. This workshop will introduce users to basic FCP elemen
 ts such as setting up a project\, the FCP toolset and basics of editing in
 cluding three point\, transitions and overwrite/insert. 
LAST-MODIFIED;VALUE=DATE-TIME:20210420T151218Z
LOCATION:A807\, New Music Building\, 527 Sherbrooke St. West. Enter via 55
 5 Sherbrooke St. West.
URL:https://www.cirmmt.org/fr/events/workshops/training/finalcut/event
END:VEVENT
BEGIN:VTIMEZONE
TZID:America/Montreal
X-LIC-LOCATION:America/Montreal
BEGIN:DAYLIGHT
DTSTART;VALUE=DATE-TIME:20100314T030000
TZNAME:EDT
TZOFFSETFROM:-0500
TZOFFSETTO:-0400
END:DAYLIGHT
END:VTIMEZONE
END:VCALENDAR
