BEGIN:VCALENDAR
VERSION:2.0
PRODID:-//Plone.org//NONSGML plone.app.event//EN
X-WR-TIMEZONE:America/Toronto
BEGIN:VEVENT
SUMMARY:Final Cut Introductory Workshop
DTSTART;TZID=America/Montreal;VALUE=DATE-TIME:20101215T100000
DTEND;TZID=America/Montreal;VALUE=DATE-TIME:20101215T170000
DTSTAMP;VALUE=DATE-TIME:20260422T002942Z
UID:31602951c6c542f5a0b2a768bea94cfb@project_zeoclients
CREATED;VALUE=DATE-TIME:20210321T220156Z
DESCRIPTION:CIRMMT has Final Cut Pro video editing software available for 
 use by its members. This workshop will introduce users to basic FCP elemen
 ts such as setting up a project\, the FCP toolset and basics of editing in
 cluding three point\, transitions and overwrite/insert. 
LAST-MODIFIED;VALUE=DATE-TIME:20210420T151218Z
LOCATION:A807\, New Music Building\, 527 Sherbrooke St. West.
URL:https://www.cirmmt.org/fr/events/workshops/training/finalcut/event_201
 01215
END:VEVENT
BEGIN:VTIMEZONE
TZID:America/Montreal
X-LIC-LOCATION:America/Montreal
BEGIN:STANDARD
DTSTART;VALUE=DATE-TIME:20101107T010000
TZNAME:EST
TZOFFSETFROM:-0400
TZOFFSETTO:-0500
END:STANDARD
END:VTIMEZONE
END:VCALENDAR
