BEGIN:VCALENDAR
VERSION:2.0
PRODID:-//Plone.org//NONSGML plone.app.event//EN
X-WR-TIMEZONE:America/Toronto
BEGIN:VEVENT
SUMMARY:InDesign CS5
DTSTART;TZID=America/Montreal;VALUE=DATE-TIME:20120326T090000
DTEND;TZID=America/Montreal;VALUE=DATE-TIME:20120327T160000
DTSTAMP;VALUE=DATE-TIME:20260421T220423Z
UID:519205b64cb94bd493adfe4aa452b369@project_zeoclients
CREATED;VALUE=DATE-TIME:20210321T220158Z
DESCRIPTION:The two-day workshop is open to all\, with a fee of $70 per da
 y (note that we have full funding available for 5 CIRMMT students/members)
 .  Registration is mandatory.
LAST-MODIFIED;VALUE=DATE-TIME:20210420T151219Z
LOCATION:A833 (Day 1) & A832 (Day 2)\, CIRMMT Conference Room\, New Music 
 Building\, 527 Sherbrooke St. West
URL:https://www.cirmmt.org/fr/events/workshops/training/indesign/event
END:VEVENT
BEGIN:VTIMEZONE
TZID:America/Montreal
X-LIC-LOCATION:America/Montreal
BEGIN:DAYLIGHT
DTSTART;VALUE=DATE-TIME:20120311T030000
TZNAME:EDT
TZOFFSETFROM:-0500
TZOFFSETTO:-0400
END:DAYLIGHT
END:VTIMEZONE
END:VCALENDAR
