BEGIN:VCALENDAR
VERSION:2.0
PRODID:-//Plone.org//NONSGML plone.app.event//EN
X-WR-TIMEZONE:America/Toronto
BEGIN:VEVENT
SUMMARY:Labo/Les Gestes
DTSTART;TZID=America/Montreal;VALUE=DATE-TIME:20120219T160000
DTEND;TZID=America/Montreal;VALUE=DATE-TIME:20120219T180000
DTSTAMP;VALUE=DATE-TIME:20260420T035237Z
UID:fe9019a13e0646388856289f32d08ac3@project_zeoclients
CREATED;VALUE=DATE-TIME:20210321T220200Z
DESCRIPTION:The Centre for Interdisciplinary Research in Music Media and T
 echnology (CIRMMT) and the Van Grimde Corps Secrets Dance Company\, in par
 tnership with Agora de la danse and the Schulich School of Music of McGill
  University\, will present an interactive laboratory on Sunday\, February 
 19 from 4-6 p.m. in the Music Multimedia Room of the Schulich School of Mu
 sic.  Come and play with new numerical musical instruments
LAST-MODIFIED;VALUE=DATE-TIME:20210420T151220Z
LOCATION:MMR\, level -2\, New Music Building\, 527 Sherbrooke St. West.
URL:https://www.cirmmt.org/fr/events/workshops/training/labo/zadel1
END:VEVENT
BEGIN:VTIMEZONE
TZID:America/Montreal
X-LIC-LOCATION:America/Montreal
BEGIN:STANDARD
DTSTART;VALUE=DATE-TIME:20111106T010000
TZNAME:EST
TZOFFSETFROM:-0400
TZOFFSETTO:-0500
END:STANDARD
END:VTIMEZONE
END:VCALENDAR
