BEGIN:VCALENDAR
VERSION:2.0
PRODID:-//Plone.org//NONSGML plone.app.event//EN
X-WR-TIMEZONE:America/Toronto
BEGIN:VEVENT
SUMMARY:Training workshop: An introduction to LaTeX
DTSTART;TZID=America/Montreal;VALUE=DATE-TIME:20120124T130000
DTEND;TZID=America/Montreal;VALUE=DATE-TIME:20120124T150000
DTSTAMP;VALUE=DATE-TIME:20260421T220958Z
UID:5199ead3bfe54499a3b1c718ceec4022@project_zeoclients
CREATED;VALUE=DATE-TIME:20210321T220201Z
DESCRIPTION:This tutorial will be given by CIRMMT student member Mark Zade
 l.  Mark is a PhD student in the Input Devices and Music Interaction Labor
 atory (IDMIL) and the Computational Acoustic Modeling Laboratory (CAML) at
  the Schulich School of Music\, McGill University.
LAST-MODIFIED;VALUE=DATE-TIME:20210420T151221Z
LOCATION:A832\, New Music Building\, 527 Sherbrooke St. West. 
URL:https://www.cirmmt.org/fr/events/workshops/training/latex1201/zadel1
END:VEVENT
BEGIN:VTIMEZONE
TZID:America/Montreal
X-LIC-LOCATION:America/Montreal
BEGIN:STANDARD
DTSTART;VALUE=DATE-TIME:20111106T010000
TZNAME:EST
TZOFFSETFROM:-0400
TZOFFSETTO:-0500
END:STANDARD
END:VTIMEZONE
END:VCALENDAR
