BEGIN:VCALENDAR
VERSION:2.0
PRODID:-//Plone.org//NONSGML plone.app.event//EN
X-WR-TIMEZONE:America/Toronto
BEGIN:VEVENT
SUMMARY:CIRMMT Lighting Kits for Video Production Workshop
DTSTART;TZID=America/Montreal;VALUE=DATE-TIME:20090428T130000
DTEND;TZID=America/Montreal;VALUE=DATE-TIME:20090428T140000
DTSTAMP;VALUE=DATE-TIME:20260422T030245Z
UID:35f4a391029b468bb7409e041689b9fb@project_zeoclients
CREATED;VALUE=DATE-TIME:20210321T220202Z
DESCRIPTION:Use and care of CIRMMT's  Kino Flo Diva-Lite kits.
LAST-MODIFIED;VALUE=DATE-TIME:20210420T151221Z
LOCATION:CIRMMT Meeting Room\, A807\, New Music Building\, 527 Sherbrooke 
 St. West
URL:https://www.cirmmt.org/fr/events/workshops/training/lighting/event
END:VEVENT
BEGIN:VTIMEZONE
TZID:America/Montreal
X-LIC-LOCATION:America/Montreal
BEGIN:DAYLIGHT
DTSTART;VALUE=DATE-TIME:20090308T030000
TZNAME:EDT
TZOFFSETFROM:-0500
TZOFFSETTO:-0400
END:DAYLIGHT
END:VTIMEZONE
END:VCALENDAR
