BEGIN:VCALENDAR
VERSION:2.0
PRODID:-//Plone.org//NONSGML plone.app.event//EN
X-WR-TIMEZONE:America/Toronto
BEGIN:VEVENT
SUMMARY:CIRMMT Advanced Microphone Workshop
DTSTART;TZID=America/Montreal;VALUE=DATE-TIME:20081209T130000
DTEND;TZID=America/Montreal;VALUE=DATE-TIME:20081209T140000
DTSTAMP;VALUE=DATE-TIME:20260422T014020Z
UID:a47eec1584cc4b8dbc3dbd0c2886920b@project_zeoclients
CREATED;VALUE=DATE-TIME:20210321T220202Z
DESCRIPTION:Use and care of advanced microphones in CIRMMT's equipment loa
 n pool.
LAST-MODIFIED;VALUE=DATE-TIME:20210420T151222Z
LOCATION:CIRMMT Meeting Room\, A807\, New Music Building\, 527 Sherbrooke 
 St. West
URL:https://www.cirmmt.org/fr/events/workshops/training/microphones-advanc
 ed/event
END:VEVENT
BEGIN:VTIMEZONE
TZID:America/Montreal
X-LIC-LOCATION:America/Montreal
BEGIN:STANDARD
DTSTART;VALUE=DATE-TIME:20081102T010000
TZNAME:EST
TZOFFSETFROM:-0400
TZOFFSETTO:-0500
END:STANDARD
END:VTIMEZONE
END:VCALENDAR
