BEGIN:VCALENDAR
VERSION:2.0
PRODID:-//Plone.org//NONSGML plone.app.event//EN
X-WR-TIMEZONE:America/Toronto
BEGIN:VEVENT
SUMMARY:Advanced Microphones Workshop
DTSTART;TZID=America/Montreal;VALUE=DATE-TIME:20110309T220000
DTEND;TZID=America/Montreal;VALUE=DATE-TIME:20110309T230000
DTSTAMP;VALUE=DATE-TIME:20260421T232336Z
UID:e9536d7d2319428ba334d05c3c79c251@project_zeoclients
CREATED;VALUE=DATE-TIME:20210321T220203Z
DESCRIPTION:An introduction to the advanced microphones available in the C
 IRMMT loan pool
LAST-MODIFIED;VALUE=DATE-TIME:20210420T151222Z
LOCATION:A807\, New Music Building\, 527 Sherbrooke St. West.
URL:https://www.cirmmt.org/fr/events/workshops/training/microphones-advanc
 ed/event_20110309
END:VEVENT
BEGIN:VTIMEZONE
TZID:America/Montreal
X-LIC-LOCATION:America/Montreal
BEGIN:STANDARD
DTSTART;VALUE=DATE-TIME:20101107T010000
TZNAME:EST
TZOFFSETFROM:-0400
TZOFFSETTO:-0500
END:STANDARD
END:VTIMEZONE
END:VCALENDAR
