BEGIN:VCALENDAR
VERSION:2.0
PRODID:-//Plone.org//NONSGML plone.app.event//EN
X-WR-TIMEZONE:America/Toronto
BEGIN:VEVENT
SUMMARY:Advanced Microphones Workshop
DTSTART;TZID=America/Montreal;VALUE=DATE-TIME:20131025T140000
DTEND;TZID=America/Montreal;VALUE=DATE-TIME:20131025T150000
DTSTAMP;VALUE=DATE-TIME:20260421T193011Z
UID:356ef3820be64a3a9f868019fb7e2c74@project_zeoclients
CREATED;VALUE=DATE-TIME:20210321T220204Z
DESCRIPTION:An introduction to the advanced microphones available in the C
 IRMMT loan pool
LAST-MODIFIED;VALUE=DATE-TIME:20210420T151222Z
LOCATION:A807\, New Music Building\, 527 Sherbrooke St. West.
URL:https://www.cirmmt.org/fr/events/workshops/training/microphones-advanc
 ed/event_20131025
END:VEVENT
BEGIN:VTIMEZONE
TZID:America/Montreal
X-LIC-LOCATION:America/Montreal
BEGIN:DAYLIGHT
DTSTART;VALUE=DATE-TIME:20130310T030000
TZNAME:EDT
TZOFFSETFROM:-0500
TZOFFSETTO:-0400
END:DAYLIGHT
END:VTIMEZONE
END:VCALENDAR
