BEGIN:VCALENDAR
VERSION:2.0
PRODID:-//Plone.org//NONSGML plone.app.event//EN
X-WR-TIMEZONE:America/Toronto
BEGIN:VEVENT
SUMMARY:Introduction to CIRMMT basic microphones
DTSTART;TZID=America/Montreal;VALUE=DATE-TIME:20120504T130000
DTEND;TZID=America/Montreal;VALUE=DATE-TIME:20120504T140000
DTSTAMP;VALUE=DATE-TIME:20260421T220447Z
UID:35d843de357f4a2a80d2c8d0e69ea398@project_zeoclients
CREATED;VALUE=DATE-TIME:20210321T220205Z
DESCRIPTION:Use and care of basic microphones in the CIRMMT equipment loan
  pool.
LAST-MODIFIED;VALUE=DATE-TIME:20210420T151222Z
LOCATION:CIRMMT Meeting Room\, A807\, New Music Building\, 527 Sherbrooke 
 St. West
URL:https://www.cirmmt.org/fr/events/workshops/training/microphones-basic/
 event_20120504
END:VEVENT
BEGIN:VTIMEZONE
TZID:America/Montreal
X-LIC-LOCATION:America/Montreal
BEGIN:DAYLIGHT
DTSTART;VALUE=DATE-TIME:20120311T030000
TZNAME:EDT
TZOFFSETFROM:-0500
TZOFFSETTO:-0400
END:DAYLIGHT
END:VTIMEZONE
END:VCALENDAR
