BEGIN:VCALENDAR
VERSION:2.0
PRODID:-//Plone.org//NONSGML plone.app.event//EN
X-WR-TIMEZONE:America/Toronto
BEGIN:VEVENT
SUMMARY:[ONLINE] Workshop: MITACS—Funding programs for local and interna
 tional collaborative research projects
DTSTART;TZID=America/Montreal;VALUE=DATE-TIME:20201030T120000
DTEND;TZID=America/Montreal;VALUE=DATE-TIME:20201030T123000
DTSTAMP;VALUE=DATE-TIME:20260421T162729Z
UID:4943fd65ac8c45dfb39a12175d3803d9@project_zeoclients
CREATED;VALUE=DATE-TIME:20220211T233102Z
DESCRIPTION:Learn about Mitacs funding programs with Mitacs Business Devel
 opment Director\, Noha Gerges.
LAST-MODIFIED;VALUE=DATE-TIME:20220211T233114Z
LOCATION:Online - WebEx
URL:https://www.cirmmt.org/fr/events/workshops/training/mitacs-2020/mitacs
END:VEVENT
BEGIN:VTIMEZONE
TZID:America/Montreal
X-LIC-LOCATION:America/Montreal
BEGIN:DAYLIGHT
DTSTART;VALUE=DATE-TIME:20200308T030000
TZNAME:EDT
TZOFFSETFROM:-0500
TZOFFSETTO:-0400
END:DAYLIGHT
END:VTIMEZONE
END:VCALENDAR
