BEGIN:VCALENDAR
VERSION:2.0
PRODID:-//Plone.org//NONSGML plone.app.event//EN
X-WR-TIMEZONE:America/Toronto
BEGIN:VEVENT
SUMMARY:Workshop: Research innovation by partnering with industry!
DTSTART;TZID=America/Montreal;VALUE=DATE-TIME:20110322T143000
DTEND;TZID=America/Montreal;VALUE=DATE-TIME:20110322T153000
DTSTAMP;VALUE=DATE-TIME:20260421T231729Z
UID:a92f7b39f28342eb95c6014364bd4afc@project_zeoclients
CREATED;VALUE=DATE-TIME:20210321T220206Z
LAST-MODIFIED;VALUE=DATE-TIME:20210420T151224Z
LOCATION:A-832\, New Music Building\, 527 Sherbrooke St. West
URL:https://www.cirmmt.org/fr/events/workshops/training/mitacs/event
END:VEVENT
BEGIN:VTIMEZONE
TZID:America/Montreal
X-LIC-LOCATION:America/Montreal
BEGIN:DAYLIGHT
DTSTART;VALUE=DATE-TIME:20110313T030000
TZNAME:EDT
TZOFFSETFROM:-0500
TZOFFSETTO:-0400
END:DAYLIGHT
END:VTIMEZONE
END:VCALENDAR
