BEGIN:VCALENDAR
VERSION:2.0
PRODID:-//Plone.org//NONSGML plone.app.event//EN
X-WR-TIMEZONE:America/Toronto
BEGIN:VEVENT
SUMMARY:Workshop: Markerless motion capture technology reveals innovative 
 educational possibilities
DTSTART;TZID=America/Montreal;VALUE=DATE-TIME:20111102T160000
DTEND;TZID=America/Montreal;VALUE=DATE-TIME:20111102T180000
DTSTAMP;VALUE=DATE-TIME:20260421T232137Z
UID:94ac1e04e4bb4b298002554d3b290049@project_zeoclients
CREATED;VALUE=DATE-TIME:20210321T220207Z
LAST-MODIFIED;VALUE=DATE-TIME:20210420T151224Z
LOCATION:A-832\, New Music Building\, 527 Sherbrooke St. West
URL:https://www.cirmmt.org/fr/events/workshops/training/mocap-markerless/e
 vent
END:VEVENT
BEGIN:VTIMEZONE
TZID:America/Montreal
X-LIC-LOCATION:America/Montreal
BEGIN:DAYLIGHT
DTSTART;VALUE=DATE-TIME:20110313T030000
TZNAME:EDT
TZOFFSETFROM:-0500
TZOFFSETTO:-0400
END:DAYLIGHT
END:VTIMEZONE
END:VCALENDAR
