BEGIN:VCALENDAR
VERSION:2.0
PRODID:-//Plone.org//NONSGML plone.app.event//EN
X-WR-TIMEZONE:America/Toronto
BEGIN:VEVENT
SUMMARY:Introduction to music notation workshop
DTSTART;TZID=America/Montreal;VALUE=DATE-TIME:20110321T113000
DTEND;TZID=America/Montreal;VALUE=DATE-TIME:20110321T123000
DTSTAMP;VALUE=DATE-TIME:20260421T231916Z
UID:1b233104315b4622863bcd88e359f994@project_zeoclients
CREATED;VALUE=DATE-TIME:20210321T220207Z
LAST-MODIFIED;VALUE=DATE-TIME:20210420T151224Z
LOCATION:E-215 (MTCL)\, Strathcona Music Building\, 555 Sherbrooke St. Wes
 t
URL:https://www.cirmmt.org/fr/events/workshops/training/music-notation1/ev
 ent
END:VEVENT
BEGIN:VTIMEZONE
TZID:America/Montreal
X-LIC-LOCATION:America/Montreal
BEGIN:DAYLIGHT
DTSTART;VALUE=DATE-TIME:20110313T030000
TZNAME:EDT
TZOFFSETFROM:-0500
TZOFFSETTO:-0400
END:DAYLIGHT
END:VTIMEZONE
END:VCALENDAR
