BEGIN:VCALENDAR
VERSION:2.0
PRODID:-//Plone.org//NONSGML plone.app.event//EN
X-WR-TIMEZONE:America/Toronto
BEGIN:VEVENT
SUMMARY:Workshop on advanced topics in music notation
DTSTART;TZID=America/Montreal;VALUE=DATE-TIME:20110321T133000
DTEND;TZID=America/Montreal;VALUE=DATE-TIME:20110321T153000
DTSTAMP;VALUE=DATE-TIME:20260421T231856Z
UID:f22a708261324c9fba247ec8767aa457@project_zeoclients
CREATED;VALUE=DATE-TIME:20210321T220208Z
LAST-MODIFIED;VALUE=DATE-TIME:20210420T151225Z
LOCATION:A-832\, New Music Building\, 527 Sherbrooke St. West
URL:https://www.cirmmt.org/fr/events/workshops/training/music-notation2/ev
 ent
END:VEVENT
BEGIN:VTIMEZONE
TZID:America/Montreal
X-LIC-LOCATION:America/Montreal
BEGIN:DAYLIGHT
DTSTART;VALUE=DATE-TIME:20110313T030000
TZNAME:EDT
TZOFFSETFROM:-0500
TZOFFSETTO:-0400
END:DAYLIGHT
END:VTIMEZONE
END:VCALENDAR
