BEGIN:VCALENDAR
VERSION:2.0
PRODID:-//Plone.org//NONSGML plone.app.event//EN
X-WR-TIMEZONE:America/Toronto
BEGIN:VEVENT
SUMMARY:Introductory training workshop in OpenMusic
DTSTART;TZID=America/Montreal;VALUE=DATE-TIME:20120529T100000
DTEND;TZID=America/Montreal;VALUE=DATE-TIME:20120601T160000
DTSTAMP;VALUE=DATE-TIME:20260421T220559Z
UID:5a871ee7230046be929b5e565e249fa5@project_zeoclients
CREATED;VALUE=DATE-TIME:20210321T220208Z
LAST-MODIFIED;VALUE=DATE-TIME:20210420T151225Z
LOCATION:A832\, New Music Building\, 527 Sherbrooke St. West. 
URL:https://www.cirmmt.org/fr/events/workshops/training/om/zadel1
END:VEVENT
BEGIN:VTIMEZONE
TZID:America/Montreal
X-LIC-LOCATION:America/Montreal
BEGIN:DAYLIGHT
DTSTART;VALUE=DATE-TIME:20120311T030000
TZNAME:EDT
TZOFFSETFROM:-0500
TZOFFSETTO:-0400
END:DAYLIGHT
END:VTIMEZONE
END:VCALENDAR
