BEGIN:VCALENDAR
VERSION:2.0
PRODID:-//Plone.org//NONSGML plone.app.event//EN
X-WR-TIMEZONE:America/Toronto
BEGIN:VEVENT
SUMMARY:Training Workshop on Open Music: Using OpenMusic for Computer-Aide
 d Music Theory\, Analysis\, and Composition
DTSTART;TZID=America/Montreal;VALUE=DATE-TIME:20130610T093000
DTEND;TZID=America/Montreal;VALUE=DATE-TIME:20130611T160000
DTSTAMP;VALUE=DATE-TIME:20260421T204015Z
UID:f37f1f81b7d94a229995fcfc62dd26fb@project_zeoclients
CREATED;VALUE=DATE-TIME:20210321T220209Z
DESCRIPTION:Researchers from IRCAM are offering a two-day workshop on the 
 creative use of OpenMusic\, the visual programming environment they have d
 eveloped for computationally assisted composition. This workshop is open t
 o all with registration.
LAST-MODIFIED;VALUE=DATE-TIME:20210420T151225Z
LOCATION:A832\, New Music Building\, 527 Sherbrooke St. West.
URL:https://www.cirmmt.org/fr/events/workshops/training/openmusic/event
END:VEVENT
BEGIN:VTIMEZONE
TZID:America/Montreal
X-LIC-LOCATION:America/Montreal
BEGIN:DAYLIGHT
DTSTART;VALUE=DATE-TIME:20130310T030000
TZNAME:EDT
TZOFFSETFROM:-0500
TZOFFSETTO:-0400
END:DAYLIGHT
END:VTIMEZONE
END:VCALENDAR
