BEGIN:VCALENDAR
VERSION:2.0
PRODID:-//Plone.org//NONSGML plone.app.event//EN
X-WR-TIMEZONE:America/Toronto
BEGIN:VEVENT
SUMMARY:Introduction and Orientation Workshop
DTSTART;TZID=America/Montreal;VALUE=DATE-TIME:20130131T130000
DTEND;TZID=America/Montreal;VALUE=DATE-TIME:20130131T140000
DTSTAMP;VALUE=DATE-TIME:20260421T204925Z
UID:a0b6b60d80fd4fe5b0ce3b977af4f328@project_zeoclients
CREATED;VALUE=DATE-TIME:20210321T220218Z
DESCRIPTION:An introduction to CIRMMT resources and the on-line booking sy
 stem.
LAST-MODIFIED;VALUE=DATE-TIME:20210420T151227Z
LOCATION:A812\, New Music Building\, 527 Sherbrooke St. West.
URL:https://www.cirmmt.org/fr/events/workshops/training/orientation/event_
 20130131
END:VEVENT
BEGIN:VTIMEZONE
TZID:America/Montreal
X-LIC-LOCATION:America/Montreal
BEGIN:STANDARD
DTSTART;VALUE=DATE-TIME:20121104T010000
TZNAME:EST
TZOFFSETFROM:-0400
TZOFFSETTO:-0500
END:STANDARD
END:VTIMEZONE
END:VCALENDAR
