BEGIN:VCALENDAR
VERSION:2.0
PRODID:-//Plone.org//NONSGML plone.app.event//EN
X-WR-TIMEZONE:America/Toronto
BEGIN:VEVENT
SUMMARY:Introduction and Orientation Workshop
DTSTART;TZID=America/Montreal;VALUE=DATE-TIME:20130924T130000
DTEND;TZID=America/Montreal;VALUE=DATE-TIME:20130924T140000
DTSTAMP;VALUE=DATE-TIME:20260421T205036Z
UID:d143f9f39b674510bdb98407b1f17c1a@project_zeoclients
CREATED;VALUE=DATE-TIME:20210321T220220Z
DESCRIPTION:An introduction to CIRMMT resources and the on-line booking sy
 stem.
LAST-MODIFIED;VALUE=DATE-TIME:20210420T151227Z
LOCATION:A812\, New Music Building\, 527 Sherbrooke St. West.
URL:https://www.cirmmt.org/fr/events/workshops/training/orientation/event_
 20130924
END:VEVENT
BEGIN:VTIMEZONE
TZID:America/Montreal
X-LIC-LOCATION:America/Montreal
BEGIN:DAYLIGHT
DTSTART;VALUE=DATE-TIME:20130310T030000
TZNAME:EDT
TZOFFSETFROM:-0500
TZOFFSETTO:-0400
END:DAYLIGHT
END:VTIMEZONE
END:VCALENDAR
