BEGIN:VCALENDAR
VERSION:2.0
PRODID:-//Plone.org//NONSGML plone.app.event//EN
X-WR-TIMEZONE:America/Toronto
BEGIN:VEVENT
SUMMARY:Your research on display: Workshop on poster and presentation desi
 gn
DTSTART;TZID=America/Montreal;VALUE=DATE-TIME:20110228T150000
DTEND;TZID=America/Montreal;VALUE=DATE-TIME:20110228T170000
DTSTAMP;VALUE=DATE-TIME:20260421T231800Z
UID:2ebea9982d974931ba1f25d7b75d4c0d@project_zeoclients
CREATED;VALUE=DATE-TIME:20210321T220221Z
DESCRIPTION:This workshop is organized by the Student Executive Committee.
   A small reception will follow the workshop.
LAST-MODIFIED;VALUE=DATE-TIME:20210420T151227Z
LOCATION:A832\, New Music Building\, 527 Sherbrooke St. West.
URL:https://www.cirmmt.org/fr/events/workshops/training/posters/video-tech
 niques
END:VEVENT
BEGIN:VTIMEZONE
TZID:America/Montreal
X-LIC-LOCATION:America/Montreal
BEGIN:STANDARD
DTSTART;VALUE=DATE-TIME:20101107T010000
TZNAME:EST
TZOFFSETFROM:-0400
TZOFFSETTO:-0500
END:STANDARD
END:VTIMEZONE
END:VCALENDAR
