BEGIN:VCALENDAR
VERSION:2.0
PRODID:-//Plone.org//NONSGML plone.app.event//EN
X-WR-TIMEZONE:America/Toronto
BEGIN:VEVENT
SUMMARY:Workshop on PYO: Making sound with Python
DTSTART;TZID=America/Montreal;VALUE=DATE-TIME:20120330T110000
DTEND;TZID=America/Montreal;VALUE=DATE-TIME:20120330T160000
DTSTAMP;VALUE=DATE-TIME:20260421T220449Z
UID:d8a024aaa19a453aa851294261a09f3e@project_zeoclients
CREATED;VALUE=DATE-TIME:20210321T220222Z
DESCRIPTION:The workshop will feature an introduction to pyo\, a presentat
 ion of various audio projects\, and a hands-on python hacking session.
LAST-MODIFIED;VALUE=DATE-TIME:20210420T151227Z
LOCATION:A-832\, New Music Building\, 527 Sherbrooke St. West
URL:https://www.cirmmt.org/fr/events/workshops/training/pyo/event
END:VEVENT
BEGIN:VTIMEZONE
TZID:America/Montreal
X-LIC-LOCATION:America/Montreal
BEGIN:DAYLIGHT
DTSTART;VALUE=DATE-TIME:20120311T030000
TZNAME:EDT
TZOFFSETFROM:-0500
TZOFFSETTO:-0400
END:DAYLIGHT
END:VTIMEZONE
END:VCALENDAR
