BEGIN:VCALENDAR
VERSION:2.0
PRODID:-//Plone.org//NONSGML plone.app.event//EN
X-WR-TIMEZONE:America/Toronto
BEGIN:VEVENT
SUMMARY:Scientific Python and Advanced Matlab Training Workshop
DTSTART;TZID=America/Montreal;VALUE=DATE-TIME:20080313T090000
DTEND;TZID=America/Montreal;VALUE=DATE-TIME:20080313T120000
DTSTAMP;VALUE=DATE-TIME:20260422T030128Z
UID:03c3fb34d7d64bc9a84c2488dc888400@project_zeoclients
CREATED;VALUE=DATE-TIME:20210321T220222Z
DESCRIPTION:This workshop is offered by the student coordinators of CIRMMT
 's Sound Modeling\, Acoustics and Signal Processing Axis.  It is open to a
 ll CIRMMT members - registration is free.
LAST-MODIFIED;VALUE=DATE-TIME:20210420T151229Z
LOCATION:A510\, New Music Building\, McGill University (enter via 555 Sher
 brooke St. West)
URL:https://www.cirmmt.org/fr/events/workshops/training/python-matlab/even
 t
END:VEVENT
BEGIN:VTIMEZONE
TZID:America/Montreal
X-LIC-LOCATION:America/Montreal
BEGIN:DAYLIGHT
DTSTART;VALUE=DATE-TIME:20080309T030000
TZNAME:EDT
TZOFFSETFROM:-0500
TZOFFSETTO:-0400
END:DAYLIGHT
END:VTIMEZONE
END:VCALENDAR
