BEGIN:VCALENDAR
VERSION:2.0
PRODID:-//Plone.org//NONSGML plone.app.event//EN
X-WR-TIMEZONE:America/Toronto
BEGIN:VEVENT
SUMMARY:Scientific Python Training Workshop
DTSTART;TZID=America/Montreal;VALUE=DATE-TIME:20090309T090000
DTEND;TZID=America/Montreal;VALUE=DATE-TIME:20090309T120000
DTSTAMP;VALUE=DATE-TIME:20260422T015322Z
UID:2d83157e32654015b83a71f67348f4c6@project_zeoclients
CREATED;VALUE=DATE-TIME:20210321T220223Z
DESCRIPTION:This workshop is offered by the student coordinators of CIRMMT
 's Sound Modeling\, Acoustics and Signal Processing Axis.  It is open to a
 ll CIRMMT members - registration is free.
LAST-MODIFIED;VALUE=DATE-TIME:20210420T151228Z
LOCATION:Room A-412\, New Music Building\, McGill University (enter via 55
 5 Sherbrooke St. West)
URL:https://www.cirmmt.org/fr/events/workshops/training/python/event
END:VEVENT
BEGIN:VTIMEZONE
TZID:America/Montreal
X-LIC-LOCATION:America/Montreal
BEGIN:DAYLIGHT
DTSTART;VALUE=DATE-TIME:20090308T030000
TZNAME:EDT
TZOFFSETFROM:-0500
TZOFFSETTO:-0400
END:DAYLIGHT
END:VTIMEZONE
END:VCALENDAR
